BEGIN:VCALENDAR
VERSION:2.0
PRODID: -//CMS 5.0 //NONSGML //DE
BEGIN:VEVENT
SUMMARY:Jugendgottesdienst für die Kirchenbezirke Magdeburg und Stendal
DESCRIPTION:\n\nhttps://blankenburg.nak-nordost.de/db/589800
UID:589800@blankenburg.nak-nordost.de
LOCATION:Sven Kumke
CATEGORIES:Kirchenbezirk Stendal,Kirchenbezirk Magdeburg (Alle Gemeinden),Jugend,Kirchenbezirk Stendal (Alle Gemeinden),Jugendgottesdienst
X-ORGANIZER:
STATUS:CONFIRMED
CLASS:PUBLIC
DTSTART:20260419T083000Z
DTEND:20260419T083000Z
DTSTAMP:20260420T095106Z
CREATED:20260303T091913Z
LAST-MODIFIED:20260303T091913Z
BEGIN:VALARM
UID:732F8ADC-3C9E-11F1-BE57-002E5329324C
TRIGGER:-PT60M
ACTION:DISPLAY
DESCRIPTION:SUMMARY:Jugendgottesdienst für die Kirchenbezirke Magdeburg und Stendal
END:VALARM
END:VEVENT
END:VCALENDAR
